git_url: https://git.bioconductor.org/packages/nem
git_branch: devel
git_last_commit: fcaf885
git_last_commit_date: 2020-04-27 14:14:04 -0400 (Mon, 27 Apr 2020)
Package: nem
Version: 2.63.0
Maintainer: Holger Froehlich
MaintainerEmail: frohlich at bit.uni-bonn.de