Package: pcaMethods Version: 1.95.0 Command: /home/biocbuild/bbs-3.18-bioc/R/bin/Rscript -e "BiocCheck::BiocCheck('pcaMethods_1.95.0.tar.gz')" StartedAt: 2023-10-24 10:47:44 -0400 (Tue, 24 Oct 2023) EndedAt: 2023-10-24 10:48:28 -0400 (Tue, 24 Oct 2023) EllapsedTime: 44.7 seconds RetCode: None Status: ERROR Warnings: 4