Package: pcaMethods Version: 1.94.0 Command: /home/hpages/bbs-3.18-bioc-R41/R/bin/R CMD build --keep-empty-dirs --no-resave-data pcaMethods StartedAt: 2024-03-08 15:47:29 -0500 (Fri, 08 Mar 2024) EndedAt: 2024-03-08 15:49:36 -0500 (Fri, 08 Mar 2024) EllapsedTime: 126.7 seconds RetCode: 0 Status: OK PackageFile: pcaMethods_1.94.0.tar.gz PackageFileSize: 748.7 KiB