Package: pcaMethods Version: 1.94.0 Command: /home/hpages/bbs-3.18-bioc-R41/R/bin/R CMD INSTALL pcaMethods StartedAt: 2024-03-08 15:28:56 -0500 (Fri, 08 Mar 2024) EndedAt: 2024-03-08 15:29:14 -0500 (Fri, 08 Mar 2024) EllapsedTime: 17.3 seconds RetCode: 0 Status: OK