Package: rBiopaxParser Version: 2.42.0 Command: /home/hpages/bbs-3.18-bioc-R41/R/bin/R CMD check --install=check:rBiopaxParser.install-out.txt --library=/home/hpages/bbs-3.18-bioc-R41/R/site-library --timings rBiopaxParser_2.42.0.tar.gz StartedAt: 2024-03-08 16:13:45 -0500 (Fri, 08 Mar 2024) EndedAt: 2024-03-08 16:14:34 -0500 (Fri, 08 Mar 2024) EllapsedTime: 48.7 seconds RetCode: 0 Status: OK CheckDir: rBiopaxParser.Rcheck Warnings: 0