Package: scuttle Version: 1.12.0 Maintainer: Aaron Lun MaintainerEmail: infinite.monkeys.with.keyboards at gmail.com git_url: https://git.bioconductor.org/packages/scuttle git_branch: RELEASE_3_18 git_last_commit: 94dd066 git_last_commit_date: 2023-10-24 11:22:45 -0500 (Tue, 24 Oct 2023)