Package: scuttle Version: 1.12.0 Command: /home/hpages/bbs-3.18-bioc-R41/R/bin/R CMD check --install=check:scuttle.install-out.txt --library=/home/hpages/bbs-3.18-bioc-R41/R/site-library --timings scuttle_1.12.0.tar.gz StartedAt: 2024-03-08 16:15:02 -0500 (Fri, 08 Mar 2024) EndedAt: 2024-03-08 16:24:06 -0500 (Fri, 08 Mar 2024) EllapsedTime: 543.6 seconds RetCode: 0 Status: OK CheckDir: scuttle.Rcheck Warnings: 0