Package: scuttle Version: 1.12.0 Command: /home/hpages/bbs-3.18-bioc-R41/R/bin/R CMD INSTALL scuttle StartedAt: 2024-03-08 15:36:48 -0500 (Fri, 08 Mar 2024) EndedAt: 2024-03-08 15:38:08 -0500 (Fri, 08 Mar 2024) EllapsedTime: 79.5 seconds RetCode: 0 Status: OK