Package: snpStats Version: 1.52.0 Command: /home/hpages/bbs-3.18-bioc-R41/R/bin/R CMD check --install=check:snpStats.install-out.txt --library=/home/hpages/bbs-3.18-bioc-R41/R/site-library --timings snpStats_1.52.0.tar.gz StartedAt: 2024-03-08 16:16:57 -0500 (Fri, 08 Mar 2024) EndedAt: 2024-03-08 16:19:52 -0500 (Fri, 08 Mar 2024) EllapsedTime: 175.3 seconds RetCode: 0 Status: WARNINGS CheckDir: snpStats.Rcheck Warnings: 1