Package: snpStats Version: 1.51.0 Command: /home/hpages/bbs-3.18-bioc/R/bin/R CMD INSTALL snpStats StartedAt: 2023-06-01 12:21:21 -0700 (Thu, 01 Jun 2023) EndedAt: 2023-06-01 12:21:44 -0700 (Thu, 01 Jun 2023) EllapsedTime: 23.0 seconds RetCode: 0 Status: OK