Package: sparseMatrixStats Version: 1.14.0 Command: /home/hpages/bbs-3.18-bioc-R41/R/bin/R CMD check --install=check:sparseMatrixStats.install-out.txt --library=/home/hpages/bbs-3.18-bioc-R41/R/site-library --timings sparseMatrixStats_1.14.0.tar.gz StartedAt: 2024-03-08 16:17:34 -0500 (Fri, 08 Mar 2024) EndedAt: 2024-03-08 16:18:44 -0500 (Fri, 08 Mar 2024) EllapsedTime: 69.3 seconds RetCode: 0 Status: OK CheckDir: sparseMatrixStats.Rcheck Warnings: 0