Package: sparseMatrixStats Version: 1.14.0 Command: /home/hpages/bbs-3.18-bioc-R41/R/bin/R CMD INSTALL sparseMatrixStats StartedAt: 2024-03-08 15:28:27 -0500 (Fri, 08 Mar 2024) EndedAt: 2024-03-08 15:29:02 -0500 (Fri, 08 Mar 2024) EllapsedTime: 34.7 seconds RetCode: 0 Status: OK