Package: tximeta Version: 1.19.10 Command: /home/biocbuild/bbs-3.18-bioc/R/bin/Rscript -e "BiocCheck::BiocCheck('tximeta_1.19.10.tar.gz')" StartedAt: 2023-10-24 10:48:40 -0400 (Tue, 24 Oct 2023) EndedAt: 2023-10-24 10:49:36 -0400 (Tue, 24 Oct 2023) EllapsedTime: 55.1 seconds RetCode: None Status: ERROR Warnings: 1