Package: tximeta Version: 1.20.3 Command: /home/hpages/bbs-3.18-bioc-R41/R/bin/R CMD build --keep-empty-dirs --no-resave-data tximeta StartedAt: 2024-03-08 15:52:00 -0500 (Fri, 08 Mar 2024) EndedAt: 2024-03-08 15:53:32 -0500 (Fri, 08 Mar 2024) EllapsedTime: 91.6 seconds RetCode: 0 Status: OK PackageFile: tximeta_1.20.3.tar.gz PackageFileSize: 1.605 MiB