Package: tximeta Version: 1.19.0 Command: /home/hpages/bbs-3.18-bioc/R/bin/R CMD check --install=check:tximeta.install-out.txt --library=/home/hpages/bbs-3.18-bioc-testing/Rlibs --timings tximeta_1.19.0.tar.gz StartedAt: 2023-06-01 13:28:42 -0700 (Thu, 01 Jun 2023) EndedAt: 2023-06-01 13:35:27 -0700 (Thu, 01 Jun 2023) EllapsedTime: 404.8 seconds RetCode: 0 Status: OK CheckDir: tximeta.Rcheck Warnings: 0