Back to First build/check report with an "external build node" |
This page was generated on 2023-06-01 18:17:19 -0400 (Thu, 01 Jun 2023).
Hostname: | xps15 |
OS: | Linux (Ubuntu 23.04) |
Arch: | x86_64 |
Platform: | x86_64-linux-gnu |
R version: | 4.3.0 Patched (2023-05-23 r84466) -- "Already Tomorrow" |
R environment variables: | Renviron.bioc |
R variable (VAR) | Value ('R CMD config <VAR>' output) |
CC | gcc |
CFLAGS | -g -O2 -Wall |
CPICFLAGS | -fpic |
Please refer to 'R CMD config -h' for the meaning of these variables |
Compiler version ('gcc --version' output):
gcc (Ubuntu 12.2.0-17ubuntu1) 12.2.0 Copyright (C) 2022 Free Software Foundation, Inc. This is free software; see the source for copying conditions. There is NO warranty; not even for MERCHANTABILITY or FITNESS FOR A PARTICULAR PURPOSE.
R variable (VAR) | Value ('R CMD config <VAR>' output) |
CXX | g++ -std=gnu++17 |
CXXFLAGS | -g -O2 -Wall |
CXXPICFLAGS | -fpic |
Please refer to 'R CMD config -h' for the meaning of these variables |
Compiler version ('g++ -std=gnu++17 --version' output):
g++ (Ubuntu 12.2.0-17ubuntu1) 12.2.0 Copyright (C) 2022 Free Software Foundation, Inc. This is free software; see the source for copying conditions. There is NO warranty; not even for MERCHANTABILITY or FITNESS FOR A PARTICULAR PURPOSE.
R variable (VAR) | Value ('R CMD config <VAR>' output) |
CXX11 | g++ |
CXX11FLAGS | -g -O2 -Wall |
CXX11PICFLAGS | -fpic |
CXX11STD | -std=gnu++11 |
Please refer to 'R CMD config -h' for the meaning of these variables |
Compiler version ('g++ --version' output):
g++ (Ubuntu 12.2.0-17ubuntu1) 12.2.0 Copyright (C) 2022 Free Software Foundation, Inc. This is free software; see the source for copying conditions. There is NO warranty; not even for MERCHANTABILITY or FITNESS FOR A PARTICULAR PURPOSE.
R variable (VAR) | Value ('R CMD config <VAR>' output) |
CXX14 | g++ |
CXX14FLAGS | -g -O2 -Wall |
CXX14PICFLAGS | -fpic |
CXX14STD | -std=gnu++14 |
Please refer to 'R CMD config -h' for the meaning of these variables |
Compiler version ('g++ --version' output):
g++ (Ubuntu 12.2.0-17ubuntu1) 12.2.0 Copyright (C) 2022 Free Software Foundation, Inc. This is free software; see the source for copying conditions. There is NO warranty; not even for MERCHANTABILITY or FITNESS FOR A PARTICULAR PURPOSE.
R variable (VAR) | Value ('R CMD config <VAR>' output) |
CXX17 | g++ |
CXX17FLAGS | -g -O2 -Wall |
CXX17PICFLAGS | -fpic |
CXX17STD | -std=gnu++17 |
Please refer to 'R CMD config -h' for the meaning of these variables |
Compiler version ('g++ --version' output):
g++ (Ubuntu 12.2.0-17ubuntu1) 12.2.0 Copyright (C) 2022 Free Software Foundation, Inc. This is free software; see the source for copying conditions. There is NO warranty; not even for MERCHANTABILITY or FITNESS FOR A PARTICULAR PURPOSE.
java version ('java --version' output):
openjdk 17.0.7 2023-04-18 OpenJDK Runtime Environment (build 17.0.7+7-Ubuntu-0ubuntu123.04) OpenJDK 64-Bit Server VM (build 17.0.7+7-Ubuntu-0ubuntu123.04, mixed mode, sharing)
pandoc version ('pandoc --version' output):
pandoc 2.17.1.1 Compiled with pandoc-types 1.22.2.1, texmath 0.12.4, skylighting 0.12.3.1, citeproc 0.6.0.1, ipynb 0.2 User data directory: /home/hpages/.local/share/pandoc Copyright (C) 2006-2022 John MacFarlane. Web: https://pandoc.org This is free software; see the source for copying conditions. There is no warranty, not even for merchantability or fitness for a particular purpose.
More information might be added in the future...