Back to First build/check report with an "external build node" |
This page was generated on 2023-06-01 18:17:19 -0400 (Thu, 01 Jun 2023).
LibPath Version Built affxparser /home/hpages/bbs-3.18-bioc-testing/Rlibs 1.73.0 4.3.0 affy /home/hpages/bbs-3.18-bioc-testing/Rlibs 1.79.0 4.3.0 affyio /home/hpages/bbs-3.18-bioc-testing/Rlibs 1.71.0 4.3.0 annotate /home/hpages/bbs-3.18-bioc-testing/Rlibs 1.79.0 4.3.0 AnnotationDbi /home/hpages/bbs-3.18-bioc-testing/Rlibs 1.63.1 4.3.0 AnnotationFilter /home/hpages/bbs-3.18-bioc-testing/Rlibs 1.25.0 4.3.0 AnnotationForge /home/hpages/bbs-3.18-bioc-testing/Rlibs 1.43.0 4.3.0 AnnotationHub /home/hpages/bbs-3.18-bioc-testing/Rlibs 3.9.1 4.3.0 apeglm /home/hpages/bbs-3.18-bioc-testing/Rlibs 1.23.1 4.3.0 beachmat /home/hpages/bbs-3.18-bioc-testing/Rlibs 2.17.5 4.3.0 Biobase /home/hpages/bbs-3.18-bioc-testing/Rlibs 2.61.0 4.3.0 BiocFileCache /home/hpages/bbs-3.18-bioc-testing/Rlibs 2.9.0 4.3.0 BiocGenerics /home/hpages/bbs-3.18-bioc-testing/Rlibs 0.47.0 4.3.0 BiocNeighbors /home/hpages/bbs-3.18-bioc-testing/Rlibs 1.19.0 4.3.0 BiocParallel /home/hpages/bbs-3.18-bioc-testing/Rlibs 1.35.2 4.3.0 BiocStyle /home/hpages/bbs-3.18-bioc-testing/Rlibs 2.29.0 4.3.0 BiocVersion /home/hpages/bbs-3.18-bioc-testing/Rlibs 3.18.0 4.3.0 biomaRt /home/hpages/bbs-3.18-bioc-testing/Rlibs 2.57.0 4.3.0 Biostrings /home/hpages/bbs-3.18-bioc-testing/Rlibs 2.69.1 4.3.0 biovizBase /home/hpages/bbs-3.18-bioc-testing/Rlibs 1.49.0 4.3.0 BSgenome /home/hpages/bbs-3.18-bioc-testing/Rlibs 1.69.0 4.3.0 cytolib /home/hpages/bbs-3.18-bioc-testing/Rlibs 2.13.0 4.3.0 DelayedArray /home/hpages/bbs-3.18-bioc-testing/Rlibs 0.27.4 4.3.0 DelayedMatrixStats /home/hpages/bbs-3.18-bioc-testing/Rlibs 1.23.0 4.3.0 DESeq /home/hpages/bbs-3.18-bioc-testing/Rlibs 1.43.0 4.3.0 DESeq2 /home/hpages/bbs-3.18-bioc-testing/Rlibs 1.41.1 4.3.0 DEXSeq /home/hpages/bbs-3.18-bioc-testing/Rlibs 1.47.0 4.3.0 DynDoc /home/hpages/bbs-3.18-bioc-testing/Rlibs 1.79.0 4.3.0 edgeR /home/hpages/bbs-3.18-bioc-testing/Rlibs 3.43.3 4.3.0 ensembldb /home/hpages/bbs-3.18-bioc-testing/Rlibs 2.25.0 4.3.0 ExperimentHub /home/hpages/bbs-3.18-bioc-testing/Rlibs 2.9.0 4.3.0 fishpond /home/hpages/bbs-3.18-bioc-testing/Rlibs 2.7.0 4.3.0 flowCore /home/hpages/bbs-3.18-bioc-testing/Rlibs 2.13.0 4.3.0 gdsfmt /home/hpages/bbs-3.18-bioc-testing/Rlibs 1.37.0 4.3.0 genefilter /home/hpages/bbs-3.18-bioc-testing/Rlibs 1.83.1 4.3.0 geneplotter /home/hpages/bbs-3.18-bioc-testing/Rlibs 1.79.0 4.3.0 GenomeInfoDb /home/hpages/bbs-3.18-bioc-testing/Rlibs 1.37.1 4.3.0 GenomicAlignments /home/hpages/bbs-3.18-bioc-testing/Rlibs 1.37.0 4.3.0 GenomicFeatures /home/hpages/bbs-3.18-bioc-testing/Rlibs 1.53.0 4.3.0 GenomicRanges /home/hpages/bbs-3.18-bioc-testing/Rlibs 1.53.1 4.3.0 ggbio /home/hpages/bbs-3.18-bioc-testing/Rlibs 1.49.0 4.3.0 graph /home/hpages/bbs-3.18-bioc-testing/Rlibs 1.79.0 4.3.0 Gviz /home/hpages/bbs-3.18-bioc-testing/Rlibs 1.45.0 4.3.0 illuminaio /home/hpages/bbs-3.18-bioc-testing/Rlibs 0.43.0 4.3.0 impute /home/hpages/bbs-3.18-bioc-testing/Rlibs 1.75.1 4.3.0 interactiveDisplayBase /home/hpages/bbs-3.18-bioc-testing/Rlibs 1.39.0 4.3.0 IRanges /home/hpages/bbs-3.18-bioc-testing/Rlibs 2.35.1 4.3.0 KEGGgraph /home/hpages/bbs-3.18-bioc-testing/Rlibs 1.61.0 4.3.0 limma /home/hpages/bbs-3.18-bioc-testing/Rlibs 3.57.1 4.3.0 MatrixGenerics /home/hpages/bbs-3.18-bioc-testing/Rlibs 1.13.0 4.3.0 microRNA /home/hpages/bbs-3.18-bioc-testing/Rlibs 1.59.0 4.3.0 multtest /home/hpages/bbs-3.18-bioc-testing/Rlibs 2.57.0 4.3.0 mzID /home/hpages/bbs-3.18-bioc-testing/Rlibs 1.39.0 4.3.0 mzR /home/hpages/bbs-3.18-bioc-testing/Rlibs 2.35.1 4.3.0 nem /home/hpages/bbs-3.18-bioc-testing/Rlibs 2.63.0 4.3.0 OrganismDbi /home/hpages/bbs-3.18-bioc-testing/Rlibs 1.43.0 4.3.0 pcaMethods /home/hpages/bbs-3.18-bioc-testing/Rlibs 1.93.0 4.3.0 preprocessCore /home/hpages/bbs-3.18-bioc-testing/Rlibs 1.63.1 4.3.0 ProtGenerics /home/hpages/bbs-3.18-bioc-testing/Rlibs 1.33.0 4.3.0 qvalue /home/hpages/bbs-3.18-bioc-testing/Rlibs 2.33.0 4.3.0 RBGL /home/hpages/bbs-3.18-bioc-testing/Rlibs 1.77.1 4.3.0 rBiopaxParser /home/hpages/bbs-3.18-bioc-testing/Rlibs 2.41.0 4.3.0 Rgraphviz /home/hpages/bbs-3.18-bioc-testing/Rlibs 2.45.0 4.3.0 Rhdf5lib /home/hpages/bbs-3.18-bioc-testing/Rlibs 1.23.0 4.3.0 Rhtslib /home/hpages/bbs-3.18-bioc-testing/Rlibs 2.3.0 4.3.0 ROC /home/hpages/bbs-3.18-bioc-testing/Rlibs 1.77.0 4.3.0 RProtoBufLib /home/hpages/bbs-3.18-bioc-testing/Rlibs 2.13.0 4.3.0 Rsamtools /home/hpages/bbs-3.18-bioc-testing/Rlibs 2.17.0 4.3.0 Rsubread /home/hpages/bbs-3.18-bioc-testing/Rlibs 2.15.3 4.3.0 rtracklayer /home/hpages/bbs-3.18-bioc-testing/Rlibs 1.61.0 4.3.0 S4Vectors /home/hpages/bbs-3.18-bioc-testing/Rlibs 0.39.1 4.3.0 ShortRead /home/hpages/bbs-3.18-bioc-testing/Rlibs 1.59.0 4.3.0 SingleCellExperiment /home/hpages/bbs-3.18-bioc-testing/Rlibs 1.23.0 4.3.0 snpStats /home/hpages/bbs-3.18-bioc-testing/Rlibs 1.51.0 4.3.0 sparseMatrixStats /home/hpages/bbs-3.18-bioc-testing/Rlibs 1.13.0 4.3.0 SPIA /home/hpages/bbs-3.18-bioc-testing/Rlibs 2.53.0 4.3.0 SummarizedExperiment /home/hpages/bbs-3.18-bioc-testing/Rlibs 1.31.1 4.3.0 tkWidgets /home/hpages/bbs-3.18-bioc-testing/Rlibs 1.79.0 4.3.0 tximeta /home/hpages/bbs-3.18-bioc-testing/Rlibs 1.19.0 4.3.0 tximport /home/hpages/bbs-3.18-bioc-testing/Rlibs 1.29.0 4.3.0 VariantAnnotation /home/hpages/bbs-3.18-bioc-testing/Rlibs 1.47.0 4.3.0 vsn /home/hpages/bbs-3.18-bioc-testing/Rlibs 3.69.0 4.3.0 widgetTools /home/hpages/bbs-3.18-bioc-testing/Rlibs 1.79.0 4.3.0 XVector /home/hpages/bbs-3.18-bioc-testing/Rlibs 0.41.1 4.3.0 zlibbioc /home/hpages/bbs-3.18-bioc-testing/Rlibs 1.47.0 4.3.0 abind /home/hpages/bbs-3.18-bioc/R/site-library 1.4-5 4.3.0 affxparser /home/hpages/bbs-3.18-bioc/R/site-library 1.73.0 4.3.0 affy /home/hpages/bbs-3.18-bioc/R/site-library 1.79.0 4.3.0 affyio /home/hpages/bbs-3.18-bioc/R/site-library 1.71.0 4.3.0 AffymetrixDataTestFiles /home/hpages/bbs-3.18-bioc/R/site-library 0.39.0 4.3.0 airway /home/hpages/bbs-3.18-bioc/R/site-library 1.21.0 4.3.0 ALL /home/hpages/bbs-3.18-bioc/R/site-library 1.43.0 4.3.0 annotate /home/hpages/bbs-3.18-bioc/R/site-library 1.79.0 4.3.0 annotation /home/hpages/bbs-3.18-bioc/R/site-library 1.25.0 4.3.0 AnnotationDbi /home/hpages/bbs-3.18-bioc/R/site-library 1.63.1 4.3.0 AnnotationFilter /home/hpages/bbs-3.18-bioc/R/site-library 1.25.0 4.3.0 AnnotationForge /home/hpages/bbs-3.18-bioc/R/site-library 1.43.0 4.3.0 AnnotationHub /home/hpages/bbs-3.18-bioc/R/site-library 3.9.1 4.3.0 apeglm /home/hpages/bbs-3.18-bioc/R/site-library 1.23.1 4.3.0 arrays /home/hpages/bbs-3.18-bioc/R/site-library 1.27.0 4.3.0 ashr /home/hpages/bbs-3.18-bioc/R/site-library 2.2-54 4.3.0 askpass /home/hpages/bbs-3.18-bioc/R/site-library 1.1 4.3.0 backports /home/hpages/bbs-3.18-bioc/R/site-library 1.4.1 4.3.0 base64 /home/hpages/bbs-3.18-bioc/R/site-library 2.0.1 4.3.0 base64enc /home/hpages/bbs-3.18-bioc/R/site-library 0.1-3 4.3.0 base64url /home/hpages/bbs-3.18-bioc/R/site-library 1.4 4.3.0 batchtools /home/hpages/bbs-3.18-bioc/R/site-library 0.9.17 4.3.0 BBmisc /home/hpages/bbs-3.18-bioc/R/site-library 1.13 4.3.0 bbmle /home/hpages/bbs-3.18-bioc/R/site-library 1.0.25 4.3.0 bdsmatrix /home/hpages/bbs-3.18-bioc/R/site-library 1.3-6 4.3.0 beachmat /home/hpages/bbs-3.18-bioc/R/site-library 2.17.4 4.3.0 bench /home/hpages/bbs-3.18-bioc/R/site-library 1.1.3 4.3.0 BH /home/hpages/bbs-3.18-bioc/R/site-library 1.81.0-1 4.3.0 BiasedUrn /home/hpages/bbs-3.18-bioc/R/site-library 2.0.10 4.3.0 Biobase /home/hpages/bbs-3.18-bioc/R/site-library 2.61.0 4.3.0 BiocFileCache /home/hpages/bbs-3.18-bioc/R/site-library 2.9.0 4.3.0 BiocGenerics /home/hpages/bbs-3.18-bioc/R/site-library 0.47.0 4.3.0 BiocIO /home/hpages/bbs-3.18-bioc/R/site-library 1.11.0 4.3.0 BiocManager /home/hpages/bbs-3.18-bioc/R/site-library 1.30.20 4.3.0 BiocNeighbors /home/hpages/bbs-3.18-bioc/R/site-library 1.19.0 4.3.0 BiocParallel /home/hpages/bbs-3.18-bioc/R/site-library 1.35.2 4.3.0 BiocStyle /home/hpages/bbs-3.18-bioc/R/site-library 2.29.0 4.3.0 BiocVersion /home/hpages/bbs-3.18-bioc/R/site-library 3.18.0 4.3.0 biomaRt /home/hpages/bbs-3.18-bioc/R/site-library 2.57.0 4.3.0 Biostrings /home/hpages/bbs-3.18-bioc/R/site-library 2.69.1 4.3.0 biovizBase /home/hpages/bbs-3.18-bioc/R/site-library 1.49.0 4.3.0 bit /home/hpages/bbs-3.18-bioc/R/site-library 4.0.5 4.3.0 bit64 /home/hpages/bbs-3.18-bioc/R/site-library 4.0.5 4.3.0 bitops /home/hpages/bbs-3.18-bioc/R/site-library 1.0-7 4.3.0 blob /home/hpages/bbs-3.18-bioc/R/site-library 1.2.4 4.3.0 bookdown /home/hpages/bbs-3.18-bioc/R/site-library 0.34 4.3.0 BP4RNAseq /home/hpages/bbs-3.18-bioc/R/site-library 1.11.0 4.3.0 brew /home/hpages/bbs-3.18-bioc/R/site-library 1.0-8 4.3.0 brio /home/hpages/bbs-3.18-bioc/R/site-library 1.1.3 4.3.0 BSgenome /home/hpages/bbs-3.18-bioc/R/site-library 1.69.0 4.3.0 BSgenome.Celegans.UCSC.ce11 /home/hpages/bbs-3.18-bioc/R/site-library 1.4.2 4.3.0 BSgenome.Celegans.UCSC.ce2 /home/hpages/bbs-3.18-bioc/R/site-library 1.4.0 4.3.0 BSgenome.Dmelanogaster.UCSC.dm3 /home/hpages/bbs-3.18-bioc/R/site-library 1.4.0 4.3.0 BSgenome.Hsapiens.NCBI.GRCh38 /home/hpages/bbs-3.18-bioc/R/site-library 1.3.1000 4.3.0 BSgenome.Hsapiens.UCSC.hg18 /home/hpages/bbs-3.18-bioc/R/site-library 1.3.1000 4.3.0 BSgenome.Hsapiens.UCSC.hg19 /home/hpages/bbs-3.18-bioc/R/site-library 1.4.3 4.3.0 BSgenome.Hsapiens.UCSC.hg38 /home/hpages/bbs-3.18-bioc/R/site-library 1.4.5 4.3.0 BSgenome.Hsapiens.UCSC.hg38.masked /home/hpages/bbs-3.18-bioc/R/site-library 1.4.5 4.3.0 BSgenome.Mmusculus.UCSC.mm10 /home/hpages/bbs-3.18-bioc/R/site-library 1.4.3 4.3.0 BSgenome.Rnorvegicus.UCSC.rn5 /home/hpages/bbs-3.18-bioc/R/site-library 1.4.0 4.3.0 BSgenome.Scerevisiae.UCSC.sacCer1 /home/hpages/bbs-3.18-bioc/R/site-library 1.4.0 4.3.0 BSgenome.Scerevisiae.UCSC.sacCer2 /home/hpages/bbs-3.18-bioc/R/site-library 1.4.0 4.3.0 bslib /home/hpages/bbs-3.18-bioc/R/site-library 0.4.2 4.3.0 cachem /home/hpages/bbs-3.18-bioc/R/site-library 1.0.8 4.3.0 callr /home/hpages/bbs-3.18-bioc/R/site-library 3.7.3 4.3.0 caTools /home/hpages/bbs-3.18-bioc/R/site-library 1.18.2 4.3.0 checkmate /home/hpages/bbs-3.18-bioc/R/site-library 2.2.0 4.3.0 cli /home/hpages/bbs-3.18-bioc/R/site-library 3.6.1 4.3.0 clipr /home/hpages/bbs-3.18-bioc/R/site-library 0.8.0 4.3.0 coda /home/hpages/bbs-3.18-bioc/R/site-library 0.19-4 4.3.0 colorspace /home/hpages/bbs-3.18-bioc/R/site-library 2.1-0 4.3.0 commonmark /home/hpages/bbs-3.18-bioc/R/site-library 1.9.0 4.3.0 config /home/hpages/bbs-3.18-bioc/R/site-library 0.3.1 4.3.0 covr /home/hpages/bbs-3.18-bioc/R/site-library 3.6.2 4.3.0 cpp11 /home/hpages/bbs-3.18-bioc/R/site-library 0.4.3 4.3.0 crayon /home/hpages/bbs-3.18-bioc/R/site-library 1.5.2 4.3.0 credentials /home/hpages/bbs-3.18-bioc/R/site-library 1.3.2 4.3.0 crosstalk /home/hpages/bbs-3.18-bioc/R/site-library 1.2.0 4.3.0 crul /home/hpages/bbs-3.18-bioc/R/site-library 1.4.0 4.3.0 curl /home/hpages/bbs-3.18-bioc/R/site-library 5.0.0 4.3.0 cytolib /home/hpages/bbs-3.18-bioc/R/site-library 2.13.0 4.3.0 data.table /home/hpages/bbs-3.18-bioc/R/site-library 1.14.8 4.3.0 DBI /home/hpages/bbs-3.18-bioc/R/site-library 1.1.3 4.3.0 dbplyr /home/hpages/bbs-3.18-bioc/R/site-library 2.3.2 4.3.0 DelayedArray /home/hpages/bbs-3.18-bioc/R/site-library 0.27.4 4.3.0 DelayedMatrixStats /home/hpages/bbs-3.18-bioc/R/site-library 1.23.0 4.3.0 deldir /home/hpages/bbs-3.18-bioc/R/site-library 1.0-9 4.3.0 desc /home/hpages/bbs-3.18-bioc/R/site-library 1.4.2 4.3.0 DESeq /home/hpages/bbs-3.18-bioc/R/site-library 1.43.0 4.3.0 DESeq2 /home/hpages/bbs-3.18-bioc/R/site-library 1.41.1 4.3.0 devtools /home/hpages/bbs-3.18-bioc/R/site-library 2.4.5 4.3.0 DEXSeq /home/hpages/bbs-3.18-bioc/R/site-library 1.47.0 4.3.0 dichromat /home/hpages/bbs-3.18-bioc/R/site-library 2.0-0.1 4.3.0 diffobj /home/hpages/bbs-3.18-bioc/R/site-library 0.3.5 4.3.0 digest /home/hpages/bbs-3.18-bioc/R/site-library 0.6.31 4.3.0 doParallel /home/hpages/bbs-3.18-bioc/R/site-library 1.0.17 4.3.0 downlit /home/hpages/bbs-3.18-bioc/R/site-library 0.4.2 4.3.0 dplyr /home/hpages/bbs-3.18-bioc/R/site-library 1.1.2 4.3.0 drosophila2probe /home/hpages/bbs-3.18-bioc/R/site-library 2.18.0 4.3.0 DT /home/hpages/bbs-3.18-bioc/R/site-library 0.28 4.3.0 DynDoc /home/hpages/bbs-3.18-bioc/R/site-library 1.79.0 4.3.0 e1071 /home/hpages/bbs-3.18-bioc/R/site-library 1.7-13 4.3.0 edgeR /home/hpages/bbs-3.18-bioc/R/site-library 3.43.3 4.3.0 ellipse /home/hpages/bbs-3.18-bioc/R/site-library 0.4.5 4.3.0 ellipsis /home/hpages/bbs-3.18-bioc/R/site-library 0.3.2 4.3.0 emdbook /home/hpages/bbs-3.18-bioc/R/site-library 1.3.12 4.3.0 EnsDb.Hsapiens.v75 /home/hpages/bbs-3.18-bioc/R/site-library 2.99.0 4.3.0 EnsDb.Hsapiens.v86 /home/hpages/bbs-3.18-bioc/R/site-library 2.99.0 4.3.0 ensembldb /home/hpages/bbs-3.18-bioc/R/site-library 2.25.0 4.3.0 etrunct /home/hpages/bbs-3.18-bioc/R/site-library 0.1 4.3.0 evaluate /home/hpages/bbs-3.18-bioc/R/site-library 0.21 4.3.0 ExperimentHub /home/hpages/bbs-3.18-bioc/R/site-library 2.9.0 4.3.0 fansi /home/hpages/bbs-3.18-bioc/R/site-library 1.0.4 4.3.0 farver /home/hpages/bbs-3.18-bioc/R/site-library 2.1.1 4.3.0 fastmap /home/hpages/bbs-3.18-bioc/R/site-library 1.1.1 4.3.0 fastqcr /home/hpages/bbs-3.18-bioc/R/site-library 0.1.3 4.3.0 fauxpas /home/hpages/bbs-3.18-bioc/R/site-library 0.5.2 4.3.0 FDb.UCSC.tRNAs /home/hpages/bbs-3.18-bioc/R/site-library 1.0.1 4.3.0 fibroEset /home/hpages/bbs-3.18-bioc/R/site-library 1.43.0 4.3.0 filelock /home/hpages/bbs-3.18-bioc/R/site-library 1.0.2 4.3.0 fishpond /home/hpages/bbs-3.18-bioc/R/site-library 2.7.0 4.3.0 flowCore /home/hpages/bbs-3.18-bioc/R/site-library 2.13.0 4.3.0 flowWorkspaceData /home/hpages/bbs-3.18-bioc/R/site-library 3.13.0 4.3.0 FNN /home/hpages/bbs-3.18-bioc/R/site-library 1.1.3.2 4.3.0 fontawesome /home/hpages/bbs-3.18-bioc/R/site-library 0.5.1 4.3.0 forcats /home/hpages/bbs-3.18-bioc/R/site-library 1.0.0 4.3.0 foreach /home/hpages/bbs-3.18-bioc/R/site-library 1.5.2 4.3.0 formatR /home/hpages/bbs-3.18-bioc/R/site-library 1.14 4.3.0 Formula /home/hpages/bbs-3.18-bioc/R/site-library 1.2-5 4.3.0 fs /home/hpages/bbs-3.18-bioc/R/site-library 1.6.2 4.3.0 futile.logger /home/hpages/bbs-3.18-bioc/R/site-library 1.4.3 4.3.0 futile.options /home/hpages/bbs-3.18-bioc/R/site-library 1.0.1 4.3.0 future /home/hpages/bbs-3.18-bioc/R/site-library 1.32.0 4.3.0 future.apply /home/hpages/bbs-3.18-bioc/R/site-library 1.11.0 4.3.0 gdsfmt /home/hpages/bbs-3.18-bioc/R/site-library 1.37.0 4.3.0 genefilter /home/hpages/bbs-3.18-bioc/R/site-library 1.83.1 4.3.0 geneplotter /home/hpages/bbs-3.18-bioc/R/site-library 1.79.0 4.3.0 generics /home/hpages/bbs-3.18-bioc/R/site-library 0.1.3 4.3.0 GenomeInfoDb /home/hpages/bbs-3.18-bioc/R/site-library 1.37.1 4.3.0 GenomeInfoDbData /home/hpages/bbs-3.18-bioc/R/site-library 1.2.10 4.3.0 GenomicAlignments /home/hpages/bbs-3.18-bioc/R/site-library 1.37.0 4.3.0 GenomicFeatures /home/hpages/bbs-3.18-bioc/R/site-library 1.53.0 4.3.0 GenomicRanges /home/hpages/bbs-3.18-bioc/R/site-library 1.53.1 4.3.0 gert /home/hpages/bbs-3.18-bioc/R/site-library 1.9.2 4.3.0 GGally /home/hpages/bbs-3.18-bioc/R/site-library 2.1.2 4.3.0 ggbio /home/hpages/bbs-3.18-bioc/R/site-library 1.49.0 4.3.0 ggplot2 /home/hpages/bbs-3.18-bioc/R/site-library 3.4.2 4.3.0 gh /home/hpages/bbs-3.18-bioc/R/site-library 1.4.0 4.3.0 gitcreds /home/hpages/bbs-3.18-bioc/R/site-library 0.1.2 4.3.0 globals /home/hpages/bbs-3.18-bioc/R/site-library 0.16.2 4.3.0 glue /home/hpages/bbs-3.18-bioc/R/site-library 1.6.2 4.3.0 gmm /home/hpages/bbs-3.18-bioc/R/site-library 1.7 4.3.0 GO.db /home/hpages/bbs-3.18-bioc/R/site-library 3.17.0 4.3.0 golubEsets /home/hpages/bbs-3.18-bioc/R/site-library 1.43.0 4.3.0 gplots /home/hpages/bbs-3.18-bioc/R/site-library 3.1.3 4.3.0 graph /home/hpages/bbs-3.18-bioc/R/site-library 1.79.0 4.3.0 gridExtra /home/hpages/bbs-3.18-bioc/R/site-library 2.3 4.3.0 GSA /home/hpages/bbs-3.18-bioc/R/site-library 1.03.2 4.3.0 gtable /home/hpages/bbs-3.18-bioc/R/site-library 0.3.3 4.3.0 gtools /home/hpages/bbs-3.18-bioc/R/site-library 3.9.4 4.3.0 Gviz /home/hpages/bbs-3.18-bioc/R/site-library 1.45.0 4.3.0 h5vcData /home/hpages/bbs-3.18-bioc/R/site-library 2.21.0 4.3.0 here /home/hpages/bbs-3.18-bioc/R/site-library 1.0.1 4.3.0 hexbin /home/hpages/bbs-3.18-bioc/R/site-library 1.28.3 4.3.0 hgfocuscdf /home/hpages/bbs-3.18-bioc/R/site-library 2.18.0 4.3.0 hgu133a.db /home/hpages/bbs-3.18-bioc/R/site-library 3.13.0 4.3.0 hgu133aprobe /home/hpages/bbs-3.18-bioc/R/site-library 2.18.0 4.3.0 hgu133plus2.db /home/hpages/bbs-3.18-bioc/R/site-library 3.13.0 4.3.0 hgu95av2 /home/hpages/bbs-3.18-bioc/R/site-library 2.2.0 4.3.0 hgu95av2.db /home/hpages/bbs-3.18-bioc/R/site-library 3.13.0 4.3.0 hgu95av2cdf /home/hpages/bbs-3.18-bioc/R/site-library 2.18.0 4.3.0 hgu95av2probe /home/hpages/bbs-3.18-bioc/R/site-library 2.18.0 4.3.0 highr /home/hpages/bbs-3.18-bioc/R/site-library 0.10 4.3.0 Hmisc /home/hpages/bbs-3.18-bioc/R/site-library 5.1-0 4.3.0 hms /home/hpages/bbs-3.18-bioc/R/site-library 1.1.3 4.3.0 Homo.sapiens /home/hpages/bbs-3.18-bioc/R/site-library 1.3.1 4.3.0 htmlTable /home/hpages/bbs-3.18-bioc/R/site-library 2.4.1 4.3.0 htmltools /home/hpages/bbs-3.18-bioc/R/site-library 0.5.5 4.3.0 htmlwidgets /home/hpages/bbs-3.18-bioc/R/site-library 1.6.2 4.3.0 httpcode /home/hpages/bbs-3.18-bioc/R/site-library 0.3.0 4.3.0 httpuv /home/hpages/bbs-3.18-bioc/R/site-library 1.6.11 4.3.0 httr /home/hpages/bbs-3.18-bioc/R/site-library 1.4.6 4.3.0 httr2 /home/hpages/bbs-3.18-bioc/R/site-library 0.2.3 4.3.0 hu6800.db /home/hpages/bbs-3.18-bioc/R/site-library 3.13.0 4.3.0 human.db0 /home/hpages/bbs-3.18-bioc/R/site-library 3.17.0 4.3.0 humanCHRLOC /home/hpages/bbs-3.18-bioc/R/site-library 2.1.6 4.3.0 humanStemCell /home/hpages/bbs-3.18-bioc/R/site-library 0.41.0 4.3.0 hwriter /home/hpages/bbs-3.18-bioc/R/site-library 1.3.2.1 4.3.0 igraph /home/hpages/bbs-3.18-bioc/R/site-library 1.4.3 4.3.0 IlluminaDataTestFiles /home/hpages/bbs-3.18-bioc/R/site-library 1.39.0 4.3.0 illuminaio /home/hpages/bbs-3.18-bioc/R/site-library 0.43.0 4.3.0 impute /home/hpages/bbs-3.18-bioc/R/site-library 1.75.1 4.3.0 imputeLCMD /home/hpages/bbs-3.18-bioc/R/site-library 2.1 4.3.0 ini /home/hpages/bbs-3.18-bioc/R/site-library 0.3.1 4.3.0 interactiveDisplayBase /home/hpages/bbs-3.18-bioc/R/site-library 1.39.0 4.3.0 interp /home/hpages/bbs-3.18-bioc/R/site-library 1.1-4 4.3.0 invgamma /home/hpages/bbs-3.18-bioc/R/site-library 1.1 4.3.0 IRanges /home/hpages/bbs-3.18-bioc/R/site-library 2.35.1 4.3.0 irlba /home/hpages/bbs-3.18-bioc/R/site-library 2.3.5.1 4.3.0 isoband /home/hpages/bbs-3.18-bioc/R/site-library 0.2.7 4.3.0 iterators /home/hpages/bbs-3.18-bioc/R/site-library 1.0.14 4.3.0 jpeg /home/hpages/bbs-3.18-bioc/R/site-library 0.1-10 4.3.0 jquerylib /home/hpages/bbs-3.18-bioc/R/site-library 0.1.4 4.3.0 jsonlite /home/hpages/bbs-3.18-bioc/R/site-library 1.8.4 4.3.0 KEGGgraph /home/hpages/bbs-3.18-bioc/R/site-library 1.61.0 4.3.0 KEGGREST /home/hpages/bbs-3.18-bioc/R/site-library 1.41.0 4.3.0 keras /home/hpages/bbs-3.18-bioc/R/site-library 2.11.1 4.3.0 knitr /home/hpages/bbs-3.18-bioc/R/site-library 1.43 4.3.0 labeling /home/hpages/bbs-3.18-bioc/R/site-library 0.4.2 4.3.0 lambda.r /home/hpages/bbs-3.18-bioc/R/site-library 1.2.4 4.3.0 later /home/hpages/bbs-3.18-bioc/R/site-library 1.3.1 4.3.0 latticeExtra /home/hpages/bbs-3.18-bioc/R/site-library 0.6-30 4.3.0 lazyeval /home/hpages/bbs-3.18-bioc/R/site-library 0.2.2 4.3.0 lifecycle /home/hpages/bbs-3.18-bioc/R/site-library 1.0.3 4.3.0 limma /home/hpages/bbs-3.18-bioc/R/site-library 3.57.1 4.3.0 listenv /home/hpages/bbs-3.18-bioc/R/site-library 0.9.0 4.3.0 lobstr /home/hpages/bbs-3.18-bioc/R/site-library 1.1.2 4.3.0 locfit /home/hpages/bbs-3.18-bioc/R/site-library 1.5-9.7 4.3.0 lubridate /home/hpages/bbs-3.18-bioc/R/site-library 1.9.2 4.3.0 macrophage /home/hpages/bbs-3.18-bioc/R/site-library 1.17.0 4.3.0 magrittr /home/hpages/bbs-3.18-bioc/R/site-library 2.0.3 4.3.0 MALDIquant /home/hpages/bbs-3.18-bioc/R/site-library 1.22.1 4.3.0 markdown /home/hpages/bbs-3.18-bioc/R/site-library 1.7 4.3.0 MatrixGenerics /home/hpages/bbs-3.18-bioc/R/site-library 1.13.0 4.3.0 matrixStats /home/hpages/bbs-3.18-bioc/R/site-library 0.63.0 4.3.0 memoise /home/hpages/bbs-3.18-bioc/R/site-library 2.0.1 4.3.0 microbenchmark /home/hpages/bbs-3.18-bioc/R/site-library 1.4.10 4.3.0 microRNA /home/hpages/bbs-3.18-bioc/R/site-library 1.59.0 4.3.0 mime /home/hpages/bbs-3.18-bioc/R/site-library 0.12 4.3.0 miniUI /home/hpages/bbs-3.18-bioc/R/site-library 0.1.1.1 4.3.0 minqa /home/hpages/bbs-3.18-bioc/R/site-library 1.2.5 4.3.0 mirbase.db /home/hpages/bbs-3.18-bioc/R/site-library 1.2.0 4.3.0 mixsqp /home/hpages/bbs-3.18-bioc/R/site-library 0.3-48 4.3.0 mockery /home/hpages/bbs-3.18-bioc/R/site-library 0.4.3 4.3.0 msdata /home/hpages/bbs-3.18-bioc/R/site-library 0.41.0 4.3.0 multtest /home/hpages/bbs-3.18-bioc/R/site-library 2.57.0 4.3.0 munsell /home/hpages/bbs-3.18-bioc/R/site-library 0.5.0 4.3.0 mvtnorm /home/hpages/bbs-3.18-bioc/R/site-library 1.1-3 4.3.0 mzID /home/hpages/bbs-3.18-bioc/R/site-library 1.39.0 4.3.0 mzR /home/hpages/bbs-3.18-bioc/R/site-library 2.35.1 4.3.0 ncdf4 /home/hpages/bbs-3.18-bioc/R/site-library 1.21 4.3.0 nem /home/hpages/bbs-3.18-bioc/R/site-library 2.63.0 4.3.0 norm /home/hpages/bbs-3.18-bioc/R/site-library 1.0-11.0 4.3.0 numDeriv /home/hpages/bbs-3.18-bioc/R/site-library 2016.8-1.1 4.3.0 openssl /home/hpages/bbs-3.18-bioc/R/site-library 2.0.6 4.3.0 openxlsx /home/hpages/bbs-3.18-bioc/R/site-library 4.2.5.2 4.3.0 org.At.tair.db /home/hpages/bbs-3.18-bioc/R/site-library 3.17.0 4.3.0 org.Dm.eg.db /home/hpages/bbs-3.18-bioc/R/site-library 3.17.0 4.3.0 org.Hs.eg.db /home/hpages/bbs-3.18-bioc/R/site-library 3.17.0 4.3.0 org.Mm.eg.db /home/hpages/bbs-3.18-bioc/R/site-library 3.17.0 4.3.0 org.Rn.eg.db /home/hpages/bbs-3.18-bioc/R/site-library 3.17.0 4.3.0 org.Sc.sgd.db /home/hpages/bbs-3.18-bioc/R/site-library 3.17.0 4.3.0 Organism.dplyr /home/hpages/bbs-3.18-bioc/R/site-library 1.29.0 4.3.0 OrganismDbi /home/hpages/bbs-3.18-bioc/R/site-library 1.43.0 4.3.0 parallelly /home/hpages/bbs-3.18-bioc/R/site-library 1.36.0 4.3.0 parathyroidSE /home/hpages/bbs-3.18-bioc/R/site-library 1.39.0 4.3.0 pasillaBamSubset /home/hpages/bbs-3.18-bioc/R/site-library 0.39.0 4.3.0 pbapply /home/hpages/bbs-3.18-bioc/R/site-library 1.7-0 4.3.0 pcaMethods /home/hpages/bbs-3.18-bioc/R/site-library 1.93.0 4.3.0 pheatmap /home/hpages/bbs-3.18-bioc/R/site-library 1.0.12 4.3.0 pillar /home/hpages/bbs-3.18-bioc/R/site-library 1.9.0 4.3.0 pkgbuild /home/hpages/bbs-3.18-bioc/R/site-library 1.4.0 4.3.0 pkgconfig /home/hpages/bbs-3.18-bioc/R/site-library 2.0.3 4.3.0 pkgdown /home/hpages/bbs-3.18-bioc/R/site-library 2.0.7 4.3.0 pkgload /home/hpages/bbs-3.18-bioc/R/site-library 1.3.2 4.3.0 plogr /home/hpages/bbs-3.18-bioc/R/site-library 0.2.0 4.3.0 plotrix /home/hpages/bbs-3.18-bioc/R/site-library 3.8-2 4.3.0 plyr /home/hpages/bbs-3.18-bioc/R/site-library 1.8.8 4.3.0 png /home/hpages/bbs-3.18-bioc/R/site-library 0.1-8 4.3.0 PolyPhen.Hsapiens.dbSNP131 /home/hpages/bbs-3.18-bioc/R/site-library 1.0.2 4.3.0 praise /home/hpages/bbs-3.18-bioc/R/site-library 1.0.0 4.3.0 preprocessCore /home/hpages/bbs-3.18-bioc/R/site-library 1.63.1 4.3.0 prettyunits /home/hpages/bbs-3.18-bioc/R/site-library 1.1.1 4.3.0 processx /home/hpages/bbs-3.18-bioc/R/site-library 3.8.1 4.3.0 profmem /home/hpages/bbs-3.18-bioc/R/site-library 0.6.0 4.3.0 profvis /home/hpages/bbs-3.18-bioc/R/site-library 0.3.8 4.3.0 progress /home/hpages/bbs-3.18-bioc/R/site-library 1.2.2 4.3.0 progressr /home/hpages/bbs-3.18-bioc/R/site-library 0.13.0 4.3.0 promises /home/hpages/bbs-3.18-bioc/R/site-library 1.2.0.1 4.3.0 ProtGenerics /home/hpages/bbs-3.18-bioc/R/site-library 1.33.0 4.3.0 proxy /home/hpages/bbs-3.18-bioc/R/site-library 0.4-27 4.3.0 pryr /home/hpages/bbs-3.18-bioc/R/site-library 0.1.6 4.3.0 ps /home/hpages/bbs-3.18-bioc/R/site-library 1.7.5 4.3.0 purrr /home/hpages/bbs-3.18-bioc/R/site-library 1.0.1 4.3.0 qvalue /home/hpages/bbs-3.18-bioc/R/site-library 2.33.0 4.3.0 R.methodsS3 /home/hpages/bbs-3.18-bioc/R/site-library 1.8.2 4.3.0 R.oo /home/hpages/bbs-3.18-bioc/R/site-library 1.25.0 4.3.0 R.utils /home/hpages/bbs-3.18-bioc/R/site-library 2.12.2 4.3.0 R6 /home/hpages/bbs-3.18-bioc/R/site-library 2.5.1 4.3.0 rae230a.db /home/hpages/bbs-3.18-bioc/R/site-library 3.13.0 4.3.0 rae230aprobe /home/hpages/bbs-3.18-bioc/R/site-library 2.18.0 4.3.0 ragg /home/hpages/bbs-3.18-bioc/R/site-library 1.2.5 4.3.0 rappdirs /home/hpages/bbs-3.18-bioc/R/site-library 0.3.3 4.3.0 Rattus.norvegicus /home/hpages/bbs-3.18-bioc/R/site-library 1.3.1 4.3.0 RBGL /home/hpages/bbs-3.18-bioc/R/site-library 1.77.1 4.3.0 rBiopaxParser /home/hpages/bbs-3.18-bioc/R/site-library 2.41.0 4.3.0 rcmdcheck /home/hpages/bbs-3.18-bioc/R/site-library 1.4.0 4.3.0 RColorBrewer /home/hpages/bbs-3.18-bioc/R/site-library 1.1-3 4.3.0 Rcpp /home/hpages/bbs-3.18-bioc/R/site-library 1.0.10 4.3.0 RcppAnnoy /home/hpages/bbs-3.18-bioc/R/site-library 0.0.20 4.3.0 RcppArmadillo /home/hpages/bbs-3.18-bioc/R/site-library 0.12.4.0.0 4.3.0 RcppEigen /home/hpages/bbs-3.18-bioc/R/site-library 0.3.3.9.3 4.3.0 RcppHNSW /home/hpages/bbs-3.18-bioc/R/site-library 0.4.1 4.3.0 RcppNumerical /home/hpages/bbs-3.18-bioc/R/site-library 0.5-0 4.3.0 RcppTOML /home/hpages/bbs-3.18-bioc/R/site-library 0.2.2 4.3.0 RCurl /home/hpages/bbs-3.18-bioc/R/site-library 1.98-1.12 4.3.0 reactome.db /home/hpages/bbs-3.18-bioc/R/site-library 1.84.0 4.3.0 readr /home/hpages/bbs-3.18-bioc/R/site-library 2.1.4 4.3.0 rematch2 /home/hpages/bbs-3.18-bioc/R/site-library 2.1.2 4.3.0 remotes /home/hpages/bbs-3.18-bioc/R/site-library 2.4.2 4.3.0 reshape /home/hpages/bbs-3.18-bioc/R/site-library 0.8.9 4.3.0 reshape2 /home/hpages/bbs-3.18-bioc/R/site-library 1.4.4 4.3.0 restfulr /home/hpages/bbs-3.18-bioc/R/site-library 0.0.15 4.3.0 reticulate /home/hpages/bbs-3.18-bioc/R/site-library 1.28 4.3.0 rex /home/hpages/bbs-3.18-bioc/R/site-library 1.2.1 4.3.0 rgl /home/hpages/bbs-3.18-bioc/R/site-library 1.1.3 4.3.0 Rgraphviz /home/hpages/bbs-3.18-bioc/R/site-library 2.45.0 4.3.0 Rhdf5lib /home/hpages/bbs-3.18-bioc/R/site-library 1.23.0 4.3.0 Rhtslib /home/hpages/bbs-3.18-bioc/R/site-library 2.3.0 4.3.0 rJava /home/hpages/bbs-3.18-bioc/R/site-library 1.0-6 4.3.0 rjson /home/hpages/bbs-3.18-bioc/R/site-library 0.2.21 4.3.0 rlang /home/hpages/bbs-3.18-bioc/R/site-library 1.1.1 4.3.0 RMariaDB /home/hpages/bbs-3.18-bioc/R/site-library 1.2.2 4.3.0 rmarkdown /home/hpages/bbs-3.18-bioc/R/site-library 2.22 4.3.0 RNAseqData.HNRNPC.bam.chr14 /home/hpages/bbs-3.18-bioc/R/site-library 0.39.0 4.3.0 ROC /home/hpages/bbs-3.18-bioc/R/site-library 1.77.0 4.3.0 roxygen2 /home/hpages/bbs-3.18-bioc/R/site-library 7.2.3 4.3.0 rprojroot /home/hpages/bbs-3.18-bioc/R/site-library 2.0.3 4.3.0 RProtoBufLib /home/hpages/bbs-3.18-bioc/R/site-library 2.13.0 4.3.0 Rsamtools /home/hpages/bbs-3.18-bioc/R/site-library 2.17.0 4.3.0 RSQLite /home/hpages/bbs-3.18-bioc/R/site-library 2.3.1 4.3.0 rstudioapi /home/hpages/bbs-3.18-bioc/R/site-library 0.14 4.3.0 Rsubread /home/hpages/bbs-3.18-bioc/R/site-library 2.15.3 4.3.0 rtracklayer /home/hpages/bbs-3.18-bioc/R/site-library 1.61.0 4.3.0 Rtsne /home/hpages/bbs-3.18-bioc/R/site-library 0.16 4.3.0 RUnit /home/hpages/bbs-3.18-bioc/R/site-library 0.4.32 4.3.0 rversions /home/hpages/bbs-3.18-bioc/R/site-library 2.1.2 4.3.0 rvest /home/hpages/bbs-3.18-bioc/R/site-library 1.0.3 4.3.0 S4Arrays /home/hpages/bbs-3.18-bioc/R/site-library 1.1.4 4.3.0 S4Vectors /home/hpages/bbs-3.18-bioc/R/site-library 0.39.1 4.3.0 samr /home/hpages/bbs-3.18-bioc/R/site-library 3.0 4.3.0 sandwich /home/hpages/bbs-3.18-bioc/R/site-library 3.0-2 4.3.0 sass /home/hpages/bbs-3.18-bioc/R/site-library 0.4.6 4.3.0 scales /home/hpages/bbs-3.18-bioc/R/site-library 1.2.1 4.3.0 scRNAseq /home/hpages/bbs-3.18-bioc/R/site-library 2.15.0 4.3.0 selectr /home/hpages/bbs-3.18-bioc/R/site-library 0.4-2 4.3.0 sessioninfo /home/hpages/bbs-3.18-bioc/R/site-library 1.2.2 4.3.0 SeuratObject /home/hpages/bbs-3.18-bioc/R/site-library 4.1.3 4.3.0 shiny /home/hpages/bbs-3.18-bioc/R/site-library 1.7.4 4.3.0 shinyFiles /home/hpages/bbs-3.18-bioc/R/site-library 0.9.3 4.3.0 ShortRead /home/hpages/bbs-3.18-bioc/R/site-library 1.59.0 4.3.0 SIFT.Hsapiens.dbSNP132 /home/hpages/bbs-3.18-bioc/R/site-library 1.0.2 4.3.0 SIFT.Hsapiens.dbSNP137 /home/hpages/bbs-3.18-bioc/R/site-library 1.0.0 4.3.0 SingleCellExperiment /home/hpages/bbs-3.18-bioc/R/site-library 1.23.0 4.3.0 snow /home/hpages/bbs-3.18-bioc/R/site-library 0.4-4 4.3.0 SNPlocs.Hsapiens.dbSNP144.GRCh37 /home/hpages/bbs-3.18-bioc/R/site-library 0.99.20 4.3.0 SNPlocs.Hsapiens.dbSNP144.GRCh38 /home/hpages/bbs-3.18-bioc/R/site-library 0.99.20 4.3.0 snpStats /home/hpages/bbs-3.18-bioc/R/site-library 1.51.0 4.3.0 sourcetools /home/hpages/bbs-3.18-bioc/R/site-library 0.1.7-1 4.3.0 sp /home/hpages/bbs-3.18-bioc/R/site-library 1.6-1 4.3.0 SparseArray /home/hpages/bbs-3.18-bioc/R/site-library 1.1.9 4.3.0 SparseM /home/hpages/bbs-3.18-bioc/R/site-library 1.81 4.3.0 sparseMatrixStats /home/hpages/bbs-3.18-bioc/R/site-library 1.13.0 4.3.0 SPIA /home/hpages/bbs-3.18-bioc/R/site-library 2.53.0 4.3.0 SQUAREM /home/hpages/bbs-3.18-bioc/R/site-library 2021.1 4.3.0 statmod /home/hpages/bbs-3.18-bioc/R/site-library 1.5.0 4.3.0 stringi /home/hpages/bbs-3.18-bioc/R/site-library 1.7.12 4.3.0 stringr /home/hpages/bbs-3.18-bioc/R/site-library 1.5.0 4.3.0 SummarizedExperiment /home/hpages/bbs-3.18-bioc/R/site-library 1.31.1 4.3.0 svMisc /home/hpages/bbs-3.18-bioc/R/site-library 1.2.3 4.3.0 sys /home/hpages/bbs-3.18-bioc/R/site-library 3.4.2 4.3.0 systemfonts /home/hpages/bbs-3.18-bioc/R/site-library 1.0.4 4.3.0 tensorflow /home/hpages/bbs-3.18-bioc/R/site-library 2.11.0 4.3.0 testthat /home/hpages/bbs-3.18-bioc/R/site-library 3.1.8 4.3.0 textshaping /home/hpages/bbs-3.18-bioc/R/site-library 0.3.6 4.3.0 tfautograph /home/hpages/bbs-3.18-bioc/R/site-library 0.3.2 4.3.0 tfruns /home/hpages/bbs-3.18-bioc/R/site-library 1.5.1 4.3.0 tibble /home/hpages/bbs-3.18-bioc/R/site-library 3.2.1 4.3.0 tidyr /home/hpages/bbs-3.18-bioc/R/site-library 1.3.0 4.3.0 tidyselect /home/hpages/bbs-3.18-bioc/R/site-library 1.2.0 4.3.0 timechange /home/hpages/bbs-3.18-bioc/R/site-library 0.2.0 4.3.0 tinytest /home/hpages/bbs-3.18-bioc/R/site-library 1.4.1 4.3.0 tinytex /home/hpages/bbs-3.18-bioc/R/site-library 0.45 4.3.0 tkWidgets /home/hpages/bbs-3.18-bioc/R/site-library 1.79.0 4.3.0 tmvtnorm /home/hpages/bbs-3.18-bioc/R/site-library 1.5 4.3.0 triebeard /home/hpages/bbs-3.18-bioc/R/site-library 0.4.1 4.3.0 truncnorm /home/hpages/bbs-3.18-bioc/R/site-library 1.0-9 4.3.0 TxDb.Athaliana.BioMart.plantsmart22 /home/hpages/bbs-3.18-bioc/R/site-library 3.0.1 4.3.0 TxDb.Celegans.UCSC.ce11.ensGene /home/hpages/bbs-3.18-bioc/R/site-library 3.15.0 4.3.0 TxDb.Dmelanogaster.UCSC.dm3.ensGene /home/hpages/bbs-3.18-bioc/R/site-library 3.2.2 4.3.0 TxDb.Hsapiens.UCSC.hg18.knownGene /home/hpages/bbs-3.18-bioc/R/site-library 3.2.2 4.3.0 TxDb.Hsapiens.UCSC.hg19.knownGene /home/hpages/bbs-3.18-bioc/R/site-library 3.2.2 4.3.0 TxDb.Hsapiens.UCSC.hg19.lincRNAsTranscripts /home/hpages/bbs-3.18-bioc/R/site-library 3.2.2 4.3.0 TxDb.Hsapiens.UCSC.hg38.knownGene /home/hpages/bbs-3.18-bioc/R/site-library 3.17.0 4.3.0 TxDb.Mmusculus.UCSC.mm10.ensGene /home/hpages/bbs-3.18-bioc/R/site-library 3.4.0 4.3.0 TxDb.Mmusculus.UCSC.mm10.knownGene /home/hpages/bbs-3.18-bioc/R/site-library 3.10.0 4.3.0 TxDb.Mmusculus.UCSC.mm9.knownGene /home/hpages/bbs-3.18-bioc/R/site-library 3.2.2 4.3.0 TxDb.Rnorvegicus.UCSC.rn5.refGene /home/hpages/bbs-3.18-bioc/R/site-library 3.12.0 4.3.0 tximeta /home/hpages/bbs-3.18-bioc/R/site-library 1.19.0 4.3.0 tximport /home/hpages/bbs-3.18-bioc/R/site-library 1.29.0 4.3.0 tximportData /home/hpages/bbs-3.18-bioc/R/site-library 1.29.0 4.3.0 tzdb /home/hpages/bbs-3.18-bioc/R/site-library 0.4.0 4.3.0 urlchecker /home/hpages/bbs-3.18-bioc/R/site-library 1.0.1 4.3.0 urltools /home/hpages/bbs-3.18-bioc/R/site-library 1.7.3 4.3.0 usethis /home/hpages/bbs-3.18-bioc/R/site-library 2.1.6 4.3.0 utf8 /home/hpages/bbs-3.18-bioc/R/site-library 1.2.3 4.3.0 VariantAnnotation /home/hpages/bbs-3.18-bioc/R/site-library 1.47.0 4.3.0 vctrs /home/hpages/bbs-3.18-bioc/R/site-library 0.6.2 4.3.0 viridis /home/hpages/bbs-3.18-bioc/R/site-library 0.6.3 4.3.0 viridisLite /home/hpages/bbs-3.18-bioc/R/site-library 0.4.2 4.3.0 vroom /home/hpages/bbs-3.18-bioc/R/site-library 1.6.3 4.3.0 vsn /home/hpages/bbs-3.18-bioc/R/site-library 3.69.0 4.3.0 waldo /home/hpages/bbs-3.18-bioc/R/site-library 0.5.1 4.3.0 webmockr /home/hpages/bbs-3.18-bioc/R/site-library 0.9.0 4.3.0 whisker /home/hpages/bbs-3.18-bioc/R/site-library 0.4.1 4.3.0 widgetTools /home/hpages/bbs-3.18-bioc/R/site-library 1.79.0 4.3.0 withr /home/hpages/bbs-3.18-bioc/R/site-library 2.5.0 4.3.0 xfun /home/hpages/bbs-3.18-bioc/R/site-library 0.39 4.3.0 XML /home/hpages/bbs-3.18-bioc/R/site-library 3.99-0.14 4.3.0 xml2 /home/hpages/bbs-3.18-bioc/R/site-library 1.3.4 4.3.0 xopen /home/hpages/bbs-3.18-bioc/R/site-library 1.0.0 4.3.0 xtable /home/hpages/bbs-3.18-bioc/R/site-library 1.8-4 4.3.0 XtraSNPlocs.Hsapiens.dbSNP144.GRCh38 /home/hpages/bbs-3.18-bioc/R/site-library 0.99.12 4.3.0 XVector /home/hpages/bbs-3.18-bioc/R/site-library 0.41.1 4.3.0 yaml /home/hpages/bbs-3.18-bioc/R/site-library 2.3.7 4.3.0 yeastNagalakshmi /home/hpages/bbs-3.18-bioc/R/site-library 1.37.0 4.3.0 zeallot /home/hpages/bbs-3.18-bioc/R/site-library 0.1.0 4.3.0 zip /home/hpages/bbs-3.18-bioc/R/site-library 2.3.0 4.3.0 zlibbioc /home/hpages/bbs-3.18-bioc/R/site-library 1.47.0 4.3.0 zoo /home/hpages/bbs-3.18-bioc/R/site-library 1.8-12 4.3.0 base /home/hpages/bbs-3.18-bioc/R/library 4.3.0 4.3.0 boot /home/hpages/bbs-3.18-bioc/R/library 1.3-28.1 4.3.0 class /home/hpages/bbs-3.18-bioc/R/library 7.3-22 4.3.0 cluster /home/hpages/bbs-3.18-bioc/R/library 2.1.4 4.3.0 codetools /home/hpages/bbs-3.18-bioc/R/library 0.2-19 4.3.0 compiler /home/hpages/bbs-3.18-bioc/R/library 4.3.0 4.3.0 datasets /home/hpages/bbs-3.18-bioc/R/library 4.3.0 4.3.0 foreign /home/hpages/bbs-3.18-bioc/R/library 0.8-84 4.3.0 graphics /home/hpages/bbs-3.18-bioc/R/library 4.3.0 4.3.0 grDevices /home/hpages/bbs-3.18-bioc/R/library 4.3.0 4.3.0 grid /home/hpages/bbs-3.18-bioc/R/library 4.3.0 4.3.0 KernSmooth /home/hpages/bbs-3.18-bioc/R/library 2.23-21 4.3.0 lattice /home/hpages/bbs-3.18-bioc/R/library 0.21-8 4.3.0 MASS /home/hpages/bbs-3.18-bioc/R/library 7.3-60 4.3.0 Matrix /home/hpages/bbs-3.18-bioc/R/library 1.5-4.1 4.3.0 methods /home/hpages/bbs-3.18-bioc/R/library 4.3.0 4.3.0 mgcv /home/hpages/bbs-3.18-bioc/R/library 1.8-42 4.3.0 nlme /home/hpages/bbs-3.18-bioc/R/library 3.1-162 4.3.0 nnet /home/hpages/bbs-3.18-bioc/R/library 7.3-19 4.3.0 parallel /home/hpages/bbs-3.18-bioc/R/library 4.3.0 4.3.0 rpart /home/hpages/bbs-3.18-bioc/R/library 4.1.19 4.3.0 spatial /home/hpages/bbs-3.18-bioc/R/library 7.3-16 4.3.0 splines /home/hpages/bbs-3.18-bioc/R/library 4.3.0 4.3.0 stats /home/hpages/bbs-3.18-bioc/R/library 4.3.0 4.3.0 stats4 /home/hpages/bbs-3.18-bioc/R/library 4.3.0 4.3.0 survival /home/hpages/bbs-3.18-bioc/R/library 3.5-5 4.3.0 tcltk /home/hpages/bbs-3.18-bioc/R/library 4.3.0 4.3.0 tools /home/hpages/bbs-3.18-bioc/R/library 4.3.0 4.3.0 utils /home/hpages/bbs-3.18-bioc/R/library 4.3.0 4.3.0