Package: zellkonverter Version: 1.12.1 Command: /home/hpages/bbs-3.18-bioc-R41/R/bin/R CMD INSTALL zellkonverter StartedAt: 2024-03-08 15:32:12 -0500 (Fri, 08 Mar 2024) EndedAt: 2024-03-08 15:32:29 -0500 (Fri, 08 Mar 2024) EllapsedTime: 17.1 seconds RetCode: 0 Status: OK