Package: BiocBookDemo Version: 1.0.0 Command: /home/biocbuild/bbs-3.18-bioc/R/bin/R CMD build --keep-empty-dirs --no-resave-data BiocBookDemo StartedAt: 2024-04-17 07:01:59 -0400 (Wed, 17 Apr 2024) EndedAt: 2024-04-17 07:02:54 -0400 (Wed, 17 Apr 2024) EllapsedTime: 55.4 seconds RetCode: 0 Status: OK PackageFile: BiocBookDemo_1.0.0.tar.gz PackageFileSize: 3.245 MiB