Package: BiocBookDemo Version: 1.0.0 Command: rm -rf BiocBookDemo.book && mkdir BiocBookDemo.book && /home/biocbuild/BBS/utils/deploy_book.py BiocBookDemo_1.0.0.tar.gz BiocBookDemo.book StartedAt: 2024-04-17 09:45:42 -0400 (Wed, 17 Apr 2024) EndedAt: 2024-04-17 09:45:43 -0400 (Wed, 17 Apr 2024) EllapsedTime: 1.0 seconds RetCode: 0 Status: OK DeployDestDir: BiocBookDemo.book Warnings: 0