Package: OSCA.advanced Version: 1.10.1 Command: rm -rf OSCA.advanced.book && mkdir OSCA.advanced.book && /home/biocbuild/BBS/utils/deploy_book.py OSCA.advanced_1.10.1.tar.gz OSCA.advanced.book StartedAt: 2024-04-17 09:45:42 -0400 (Wed, 17 Apr 2024) EndedAt: 2024-04-17 09:45:44 -0400 (Wed, 17 Apr 2024) EllapsedTime: 1.9 seconds RetCode: 0 Status: OK DeployDestDir: OSCA.advanced.book Warnings: 0