Package: OSCA.advanced Version: 1.10.1 Command: /home/biocbuild/bbs-3.18-bioc/R/bin/R CMD INSTALL OSCA.advanced StartedAt: 2024-04-17 07:01:15 -0400 (Wed, 17 Apr 2024) EndedAt: 2024-04-17 07:01:54 -0400 (Wed, 17 Apr 2024) EllapsedTime: 38.9 seconds RetCode: 0 Status: OK