Package: AHEnsDbs Version: 1.1.11 Maintainer: Johannes Rainer MaintainerEmail: johannes.rainer at eurac.edu git_url: https://git.bioconductor.org/packages/AHEnsDbs git_branch: RELEASE_3_18 git_last_commit: c462686 git_last_commit_date: 2024-01-22 05:38:21 -0400 (Mon, 22 Jan 2024)