Package: AHWikipathwaysDbs Version: 0.99.4 Command: /home/biocbuild/bbs-3.18-bioc/R/bin/R CMD build --keep-empty-dirs --no-resave-data AHWikipathwaysDbs StartedAt: 2024-04-17 06:31:16 -0400 (Wed, 17 Apr 2024) EndedAt: 2024-04-17 06:31:43 -0400 (Wed, 17 Apr 2024) EllapsedTime: 27.1 seconds RetCode: 0 Status: OK PackageFile: AHWikipathwaysDbs_0.99.4.tar.gz PackageFileSize: 295 KiB