Package: AHWikipathwaysDbs Version: 0.99.4 Command: /home/biocbuild/bbs-3.18-bioc/R/bin/R CMD check --install=check:AHWikipathwaysDbs.install-out.txt --library=/home/biocbuild/bbs-3.18-bioc/R/site-library --timings AHWikipathwaysDbs_0.99.4.tar.gz StartedAt: 2024-04-17 06:33:32 -0400 (Wed, 17 Apr 2024) EndedAt: 2024-04-17 06:34:39 -0400 (Wed, 17 Apr 2024) EllapsedTime: 67.3 seconds RetCode: 0 Status: OK CheckDir: AHWikipathwaysDbs.Rcheck Warnings: 0