Package: AlphaMissense.v2023.hg38 Version: 3.18.2 Command: /home/biocbuild/bbs-3.18-bioc/R/bin/R CMD build --keep-empty-dirs --no-resave-data AlphaMissense.v2023.hg38 StartedAt: 2024-04-17 06:31:16 -0400 (Wed, 17 Apr 2024) EndedAt: 2024-04-17 06:32:05 -0400 (Wed, 17 Apr 2024) EllapsedTime: 49.7 seconds RetCode: 0 Status: OK PackageFile: AlphaMissense.v2023.hg38_3.18.2.tar.gz PackageFileSize: 300 KiB