Package: AlphaMissense.v2023.hg38 Version: 3.18.2 Command: /home/biocbuild/bbs-3.18-bioc/R/bin/R CMD check --install=check:AlphaMissense.v2023.hg38.install-out.txt --library=/home/biocbuild/bbs-3.18-bioc/R/site-library --timings AlphaMissense.v2023.hg38_3.18.2.tar.gz StartedAt: 2024-04-17 06:33:32 -0400 (Wed, 17 Apr 2024) EndedAt: 2024-04-17 06:35:28 -0400 (Wed, 17 Apr 2024) EllapsedTime: 115.8 seconds RetCode: 0 Status: OK CheckDir: AlphaMissense.v2023.hg38.Rcheck Warnings: 0