Package: CTCF Version: 0.99.11 Command: /home/biocbuild/bbs-3.18-bioc/R/bin/R CMD check --install=check:CTCF.install-out.txt --library=/home/biocbuild/bbs-3.18-bioc/R/site-library --timings CTCF_0.99.11.tar.gz StartedAt: 2024-04-17 06:33:32 -0400 (Wed, 17 Apr 2024) EndedAt: 2024-04-17 06:35:11 -0400 (Wed, 17 Apr 2024) EllapsedTime: 98.8 seconds RetCode: 1 Status: ERROR CheckDir: CTCF.Rcheck Warnings: NA