Package: CTCF Version: 0.99.11 Command: /home/biocbuild/bbs-3.18-bioc/R/bin/R CMD INSTALL CTCF StartedAt: 2024-04-17 06:30:07 -0400 (Wed, 17 Apr 2024) EndedAt: 2024-04-17 06:30:09 -0400 (Wed, 17 Apr 2024) EllapsedTime: 2.0 seconds RetCode: 0 Status: OK