Package: EpiTxDb.Sc.sacCer3 Version: 0.99.5 Command: /home/biocbuild/bbs-3.18-bioc/R/bin/R CMD check --install=check:EpiTxDb.Sc.sacCer3.install-out.txt --library=/home/biocbuild/bbs-3.18-bioc/R/site-library --timings EpiTxDb.Sc.sacCer3_0.99.5.tar.gz StartedAt: 2024-04-17 06:33:32 -0400 (Wed, 17 Apr 2024) EndedAt: 2024-04-17 06:38:45 -0400 (Wed, 17 Apr 2024) EllapsedTime: 312.9 seconds RetCode: 0 Status: OK CheckDir: EpiTxDb.Sc.sacCer3.Rcheck Warnings: 0