Package: EpiTxDb.Sc.sacCer3 Version: 0.99.5 Command: /home/biocbuild/bbs-3.18-bioc/R/bin/R CMD INSTALL EpiTxDb.Sc.sacCer3 StartedAt: 2024-04-17 06:30:27 -0400 (Wed, 17 Apr 2024) EndedAt: 2024-04-17 06:31:09 -0400 (Wed, 17 Apr 2024) EllapsedTime: 42.1 seconds RetCode: 0 Status: OK