Package: GeneSummary Version: 0.99.6 Command: /home/biocbuild/bbs-3.18-bioc/R/bin/R CMD check --install=check:GeneSummary.install-out.txt --library=/home/biocbuild/bbs-3.18-bioc/R/site-library --timings GeneSummary_0.99.6.tar.gz StartedAt: 2024-04-17 06:33:41 -0400 (Wed, 17 Apr 2024) EndedAt: 2024-04-17 06:33:59 -0400 (Wed, 17 Apr 2024) EllapsedTime: 18.3 seconds RetCode: 0 Status: OK CheckDir: GeneSummary.Rcheck Warnings: 0