Package: GenomicState Version: 0.99.15 Command: /home/biocbuild/bbs-3.18-bioc/R/bin/R CMD check --install=check:GenomicState.install-out.txt --library=/home/biocbuild/bbs-3.18-bioc/R/site-library --timings GenomicState_0.99.15.tar.gz StartedAt: 2024-04-17 06:33:42 -0400 (Wed, 17 Apr 2024) EndedAt: 2024-04-17 06:41:37 -0400 (Wed, 17 Apr 2024) EllapsedTime: 475.3 seconds RetCode: 0 Status: OK CheckDir: GenomicState.Rcheck Warnings: 0