Package: JASPAR2024 Version: 0.99.6 Command: /home/biocbuild/bbs-3.18-bioc/R/bin/R CMD check --install=check:JASPAR2024.install-out.txt --library=/home/biocbuild/bbs-3.18-bioc/R/site-library --timings JASPAR2024_0.99.6.tar.gz StartedAt: 2024-04-17 06:34:31 -0400 (Wed, 17 Apr 2024) EndedAt: 2024-04-17 06:35:07 -0400 (Wed, 17 Apr 2024) EllapsedTime: 35.6 seconds RetCode: 0 Status: OK CheckDir: JASPAR2024.Rcheck Warnings: 0