Package: PANTHER.db Version: 1.0.12 Command: /home/biocbuild/bbs-3.18-bioc/R/bin/R CMD build --keep-empty-dirs --no-resave-data PANTHER.db StartedAt: 2024-04-17 06:32:17 -0400 (Wed, 17 Apr 2024) EndedAt: 2024-04-17 06:32:49 -0400 (Wed, 17 Apr 2024) EllapsedTime: 31.5 seconds RetCode: 0 Status: OK PackageFile: PANTHER.db_1.0.12.tar.gz PackageFileSize: 317.8 KiB