Package: PANTHER.db Version: 1.0.12 Command: /home/biocbuild/bbs-3.18-bioc/R/bin/R CMD INSTALL PANTHER.db StartedAt: 2024-04-17 06:30:19 -0400 (Wed, 17 Apr 2024) EndedAt: 2024-04-17 06:30:41 -0400 (Wed, 17 Apr 2024) EllapsedTime: 22.5 seconds RetCode: 0 Status: OK