Package: SomaScan.db Version: 0.99.7 Maintainer: Amanda Hiser MaintainerEmail: ahiser at somalogic.com git_url: https://git.bioconductor.org/packages/SomaScan.db git_branch: RELEASE_3_18 git_last_commit: 4e8e055 git_last_commit_date: 2023-10-23 11:39:56 -0400 (Mon, 23 Oct 2023)