Package: SomaScan.db Version: 0.99.7 Command: /home/biocbuild/bbs-3.18-bioc/R/bin/R CMD build --keep-empty-dirs --no-resave-data SomaScan.db StartedAt: 2024-04-17 06:32:23 -0400 (Wed, 17 Apr 2024) EndedAt: 2024-04-17 06:33:11 -0400 (Wed, 17 Apr 2024) EllapsedTime: 48.7 seconds RetCode: 0 Status: OK PackageFile: SomaScan.db_0.99.7.tar.gz PackageFileSize: 1.837 MiB