Package: SomaScan.db Version: 0.99.7 Command: /home/biocbuild/bbs-3.18-bioc/R/bin/R CMD check --install=check:SomaScan.db.install-out.txt --library=/home/biocbuild/bbs-3.18-bioc/R/site-library --timings SomaScan.db_0.99.7.tar.gz StartedAt: 2024-04-17 06:35:28 -0400 (Wed, 17 Apr 2024) EndedAt: 2024-04-17 06:38:47 -0400 (Wed, 17 Apr 2024) EllapsedTime: 199.2 seconds RetCode: 1 Status: ERROR CheckDir: SomaScan.db.Rcheck Warnings: NA