Package: SomaScan.db Version: 0.99.7 Command: /home/biocbuild/bbs-3.18-bioc/R/bin/R CMD INSTALL SomaScan.db StartedAt: 2024-04-17 06:30:07 -0400 (Wed, 17 Apr 2024) EndedAt: 2024-04-17 06:30:23 -0400 (Wed, 17 Apr 2024) EllapsedTime: 15.5 seconds RetCode: 0 Status: OK