Package: ontoProcData Version: 0.99.9904 Command: /home/biocbuild/bbs-3.18-bioc/R/bin/R CMD check --install=check:ontoProcData.install-out.txt --library=/home/biocbuild/bbs-3.18-bioc/R/site-library --timings ontoProcData_0.99.9904.tar.gz StartedAt: 2024-04-17 06:34:41 -0400 (Wed, 17 Apr 2024) EndedAt: 2024-04-17 06:35:04 -0400 (Wed, 17 Apr 2024) EllapsedTime: 23.3 seconds RetCode: 0 Status: OK CheckDir: ontoProcData.Rcheck Warnings: 0