Package: rGenomeTracksData Version: 0.99.0 Command: /home/biocbuild/bbs-3.18-bioc/R/bin/R CMD build --keep-empty-dirs --no-resave-data rGenomeTracksData StartedAt: 2024-04-17 06:32:20 -0400 (Wed, 17 Apr 2024) EndedAt: 2024-04-17 06:32:39 -0400 (Wed, 17 Apr 2024) EllapsedTime: 19.0 seconds RetCode: 0 Status: OK PackageFile: rGenomeTracksData_0.99.0.tar.gz PackageFileSize: 10.24 KiB