Package: rGenomeTracksData Version: 0.99.0 Command: /home/biocbuild/bbs-3.18-bioc/R/bin/R CMD INSTALL rGenomeTracksData StartedAt: 2024-04-17 06:30:21 -0400 (Wed, 17 Apr 2024) EndedAt: 2024-04-17 06:30:32 -0400 (Wed, 17 Apr 2024) EllapsedTime: 10.4 seconds RetCode: 0 Status: OK