Package: synaptome.data Version: 0.99.6 Command: /home/biocbuild/bbs-3.18-bioc/R/bin/R CMD check --install=check:synaptome.data.install-out.txt --library=/home/biocbuild/bbs-3.18-bioc/R/site-library --timings synaptome.data_0.99.6.tar.gz StartedAt: 2024-04-17 06:35:28 -0400 (Wed, 17 Apr 2024) EndedAt: 2024-04-17 06:37:04 -0400 (Wed, 17 Apr 2024) EllapsedTime: 95.5 seconds RetCode: 0 Status: OK CheckDir: synaptome.data.Rcheck Warnings: 0