Package: ALL Version: 1.44.0 Command: /home/biocbuild/bbs-3.18-bioc/R/bin/R CMD build --keep-empty-dirs --no-resave-data ALL StartedAt: 2024-04-16 10:14:32 -0400 (Tue, 16 Apr 2024) EndedAt: 2024-04-16 10:14:47 -0400 (Tue, 16 Apr 2024) EllapsedTime: 15.3 seconds RetCode: 0 Status: OK PackageFile: ALL_1.44.0.tar.gz PackageFileSize: 10.86 MiB