Package: AssessORFData Version: 1.20.0 Maintainer: Deepank Korandla MaintainerEmail: dkorandl at alumni.cmu.edu git_url: https://git.bioconductor.org/packages/AssessORFData git_branch: RELEASE_3_18 git_last_commit: ce79d8f git_last_commit_date: 2023-10-24 09:18:54 -0400 (Tue, 24 Oct 2023)