Package: BioPlex Version: 1.8.0 Command: /home/biocbuild/bbs-3.18-bioc/R/bin/R CMD build --keep-empty-dirs --no-resave-data BioPlex StartedAt: 2024-04-16 10:15:11 -0400 (Tue, 16 Apr 2024) EndedAt: 2024-04-16 10:17:56 -0400 (Tue, 16 Apr 2024) EllapsedTime: 165.1 seconds RetCode: 0 Status: OK PackageFile: BioPlex_1.8.0.tar.gz PackageFileSize: 749.6 KiB