Package: COPDSexualDimorphism.data Version: 1.38.0 Maintainer: J Fah Sathirapongsasuti MaintainerEmail: fah at cs.stanford.edu git_url: https://git.bioconductor.org/packages/COPDSexualDimorphism.data git_branch: RELEASE_3_18 git_last_commit: 7ca6bba git_last_commit_date: 2023-10-24 09:07:52 -0400 (Tue, 24 Oct 2023)