Package: CardinalWorkflows Version: 1.34.0 Maintainer: Kylie A. Bemis MaintainerEmail: k.bemis at northeastern.edu git_url: https://git.bioconductor.org/packages/CardinalWorkflows git_branch: RELEASE_3_18 git_last_commit: 0a85b41 git_last_commit_date: 2023-10-24 09:09:44 -0400 (Tue, 24 Oct 2023)