Package: ChIC.data Version: 1.22.0 Command: /home/biocbuild/bbs-3.18-bioc/R/bin/R CMD check --install=check:ChIC.data.install-out.txt --library=/home/biocbuild/bbs-3.18-bioc/R/site-library --timings ChIC.data_1.22.0.tar.gz StartedAt: 2024-04-16 11:09:49 -0400 (Tue, 16 Apr 2024) EndedAt: 2024-04-16 11:12:14 -0400 (Tue, 16 Apr 2024) EllapsedTime: 145.4 seconds RetCode: 0 Status: WARNINGS CheckDir: ChIC.data.Rcheck Warnings: 1